BEGIN:VCALENDAR
VERSION:2.0
PRODID:-//Plone.org//NONSGML plone.app.event//EN
X-WR-TIMEZONE:Brazil/West
BEGIN:VEVENT
SUMMARY:Reunião: Comissão Mista - assunto com o objetivo de discutir tr
 ês importantes instrumentos de  planejamento e orçamento para o municíp
 io do ano seguinte (2025) sendo estes: o (PPA)\, (LDO) e a (LOA).
DTSTART;TZID=Brazil/West;VALUE=DATE-TIME:20241203T090000
DTEND;TZID=Brazil/West;VALUE=DATE-TIME:20241203T110000
DTSTAMP;VALUE=DATE-TIME:20260419T200248Z
UID:9e7b8d22e8c04c198711ac6cb1d01f48@www.caceres.mt.leg.br
CREATED;VALUE=DATE-TIME:20241113T133543Z
DESCRIPTION:Pedido pelo 1doc ofício nº40/2024\, Gabinete do Vereador Isa
 ías Bezerra.
LAST-MODIFIED;VALUE=DATE-TIME:20241113T142449Z
LOCATION:Câmara Municipal de Cáceres
URL:https://www.caceres.mt.leg.br/institucional/noticias/reuniao-comissao-
 mista-assunto-com-o-objetivo-de-discutir-tres-importantes-instrumentos-de-
 planejamento-e-orcamento-para-o-municipio-do-ano-seguinte-2025-sendo-estes
 -o-ppa-ldo-e-a-loa
END:VEVENT
BEGIN:VTIMEZONE
TZID:Brazil/West
X-LIC-LOCATION:Brazil/West
BEGIN:STANDARD
DTSTART;VALUE=DATE-TIME:19940219T230000
TZNAME:AMT
TZOFFSETFROM:-0300
TZOFFSETTO:-0400
END:STANDARD
END:VTIMEZONE
END:VCALENDAR
