BEGIN:VCALENDAR
VERSION:2.0
PRODID:-//Plone.org//NONSGML plone.app.event//EN
X-WR-TIMEZONE:Brazil/West
BEGIN:VEVENT
SUMMARY:Sessão Extraordinária 
DTSTART;TZID=Brazil/East;VALUE=DATE-TIME:20230119T082000
DTSTAMP;VALUE=DATE-TIME:20260423T042040Z
UID:40cd021e289c468db577a7e04d4b3b60@www.caceres.mt.leg.br
CONTACT:https://sapl.caceres.mt.leg.br/materia/5821
CREATED;VALUE=DATE-TIME:20230118T120508Z
DESCRIPTION:Projeto de Lei nº 002\, de 17 de janeiro de 2023\,  que "Esta
 belece o reajuste do vencimento base dos servidores públicos e subsidio d
 os vereadores da Câmara Municipal de Cáceres a título de revisão geral
  anual\, prevista pela Lei Municipal n. ° 2.348/2012\, e ao auxilio alime
 ntação previsto na Lei Ordinária nº 3.005\, de 26 de novembro de 2021 
 na forma que especifica."
LAST-MODIFIED;VALUE=DATE-TIME:20230118T122508Z
URL:https://www.caceres.mt.leg.br/institucional/eventos/sessao-extraordina
 ria-9
END:VEVENT
BEGIN:VTIMEZONE
TZID:Brazil/East
X-LIC-LOCATION:Brazil/East
BEGIN:DAYLIGHT
DTSTART;VALUE=DATE-TIME:20221016T010000
TZNAME:BRST
TZOFFSETFROM:-0300
TZOFFSETTO:-0200
END:DAYLIGHT
END:VTIMEZONE
END:VCALENDAR
