BEGIN:VCALENDAR
VERSION:2.0
PRODID:-//Plone.org//NONSGML plone.app.event//EN
X-WR-TIMEZONE:Brazil/West
BEGIN:VEVENT
SUMMARY:Sessão Extraordinária 
DTSTART;TZID=Brazil/East;VALUE=DATE-TIME:20230119T080000
DTSTAMP;VALUE=DATE-TIME:20260423T042535Z
UID:519ac69cbb374feb82b12803cc4c0d06@www.caceres.mt.leg.br
CONTACT:https://sapl.caceres.mt.leg.br/materia/5816
CREATED;VALUE=DATE-TIME:20230118T120239Z
DESCRIPTION:Projeto de \nLei Complementar nº 001\, de 16 de janeiro de 20
 23\, que “Altera o lotacionograma constante na \nLei Complementar nº 11
 0/2017\, revoga inciso do art. 6º da LC 47/2003\, estabelece o reajuste d
 o \nvencimento base dos servidores municipais a título de revisão geral 
 anual\, e dá outras \nprovidências.\n
LAST-MODIFIED;VALUE=DATE-TIME:20230118T122226Z
URL:https://www.caceres.mt.leg.br/institucional/eventos/sessao-extraordina
 ria-8
END:VEVENT
BEGIN:VTIMEZONE
TZID:Brazil/East
X-LIC-LOCATION:Brazil/East
BEGIN:DAYLIGHT
DTSTART;VALUE=DATE-TIME:20221016T010000
TZNAME:BRST
TZOFFSETFROM:-0300
TZOFFSETTO:-0200
END:DAYLIGHT
END:VTIMEZONE
END:VCALENDAR
