BEGIN:VCALENDAR
VERSION:2.0
PRODID:-//Plone.org//NONSGML plone.app.event//EN
X-WR-TIMEZONE:Brazil/West
BEGIN:VEVENT
SUMMARY:Sessão Extraordinária 
DTSTART;TZID=Brazil/East;VALUE=DATE-TIME:20230119T084000
DTSTAMP;VALUE=DATE-TIME:20260424T140415Z
UID:e24716acae2d49098c1f829964601331@www.caceres.mt.leg.br
CONTACT:https://sapl.caceres.mt.leg.br/materia/5821
CREATED;VALUE=DATE-TIME:20230118T120939Z
DESCRIPTION:Projeto de Lei nº 002\, de 17 de janeiro de 2023\, que altera
  o artigo 1⁰\, da Lei Municipal n° 2.562 de 19 de janeiro de 2017\, que
  “Institui e regulamenta a verba de natureza indenizatória\, em face da
 s despesas decorrentes das atividades parlamentares externas do parlamenta
 r e dá outras providências."\n
LAST-MODIFIED;VALUE=DATE-TIME:20230118T122522Z
URL:https://www.caceres.mt.leg.br/institucional/eventos/sessao-extraordina
 ria-10
END:VEVENT
BEGIN:VTIMEZONE
TZID:Brazil/East
X-LIC-LOCATION:Brazil/East
BEGIN:DAYLIGHT
DTSTART;VALUE=DATE-TIME:20221016T010000
TZNAME:BRST
TZOFFSETFROM:-0300
TZOFFSETTO:-0200
END:DAYLIGHT
END:VTIMEZONE
END:VCALENDAR
