BEGIN:VCALENDAR
VERSION:2.0
PRODID:-//Plone.org//NONSGML plone.app.event//EN
X-WR-TIMEZONE:Brazil/West
BEGIN:VEVENT
SUMMARY:Seminário Sociologia da Educação do Programa de Pós- graduaç
 ão em Educação\, da UNEMAT.
DTSTART;TZID=Brazil/East;VALUE=DATE-TIME:20231027T073000
DTEND;TZID=Brazil/East;VALUE=DATE-TIME:20231027T193000
DTSTAMP;VALUE=DATE-TIME:20260424T142715Z
UID:51d1db2584b34e56a76834df5247311a@www.caceres.mt.leg.br
CREATED;VALUE=DATE-TIME:20231023T164513Z
DESCRIPTION:Pedido pelo 1doc feito pela UNEMAT .
LAST-MODIFIED;VALUE=DATE-TIME:20231023T164651Z
LOCATION:Câmara Municipal de Cáceres
URL:https://www.caceres.mt.leg.br/institucional/eventos/seminario-sociolog
 ia-da-educacao-do-programa-de-pos-graduacao-em-educacao-da-unemat
END:VEVENT
BEGIN:VTIMEZONE
TZID:Brazil/East
X-LIC-LOCATION:Brazil/East
BEGIN:DAYLIGHT
DTSTART;VALUE=DATE-TIME:20231015T010000
TZNAME:BRST
TZOFFSETFROM:-0300
TZOFFSETTO:-0200
END:DAYLIGHT
END:VTIMEZONE
END:VCALENDAR
