BEGIN:VCALENDAR
VERSION:2.0
PRODID:-//Plone.org//NONSGML plone.app.event//EN
X-WR-TIMEZONE:Brazil/West
BEGIN:VEVENT
SUMMARY:Sabatina: Sra. Samara Brant Ferreira - Direção da Empresa Águas
  do Pantanal
DTSTART;TZID=Brazil/West;VALUE=DATE-TIME:20251017T090000
DTEND;TZID=Brazil/West;VALUE=DATE-TIME:20251017T100000
DTSTAMP;VALUE=DATE-TIME:20260419T212344Z
UID:53cf82113dad40b6a18f601940a6e4b1@www.caceres.mt.leg.br
CREATED;VALUE=DATE-TIME:20251010T163534Z
DESCRIPTION:Ofício Interno 5.495/2025 - Presidente Flávio Negação
LAST-MODIFIED;VALUE=DATE-TIME:20251013T121614Z
LOCATION:Câmara Municipal - Cáceres MT
URL:https://www.caceres.mt.leg.br/institucional/eventos/sabatina-sra-samar
 a-brant-ferreira-direcao-da-empresa-aguas-do-pantanal
END:VEVENT
BEGIN:VTIMEZONE
TZID:Brazil/West
X-LIC-LOCATION:Brazil/West
BEGIN:STANDARD
DTSTART;VALUE=DATE-TIME:19940219T230000
TZNAME:AMT
TZOFFSETFROM:-0300
TZOFFSETTO:-0400
END:STANDARD
END:VTIMEZONE
END:VCALENDAR
