BEGIN:VCALENDAR
VERSION:2.0
PRODID:-//Plone.org//NONSGML plone.app.event//EN
X-WR-TIMEZONE:Brazil/West
BEGIN:VEVENT
SUMMARY:Reuniões Ordinárias da Comissão de  Saúde \, Higiene e Promoç
 ão Social.
DTSTART;TZID=Brazil/East;VALUE=DATE-TIME:20230829T090000
DTEND;TZID=Brazil/East;VALUE=DATE-TIME:20230829T100000
DTSTAMP;VALUE=DATE-TIME:20260419T145303Z
UID:08dd167315e4491b8e2a43d7a6e88880@www.caceres.mt.leg.br
CREATED;VALUE=DATE-TIME:20230328T154045Z
LAST-MODIFIED;VALUE=DATE-TIME:20230328T154057Z
LOCATION:Câmara Municipal de Cáceres
URL:https://www.caceres.mt.leg.br/institucional/eventos/reunioes-ordinaria
 s-da-comissao-de-saude-higiene-e-promocao-social-4
END:VEVENT
BEGIN:VTIMEZONE
TZID:Brazil/East
X-LIC-LOCATION:Brazil/East
BEGIN:STANDARD
DTSTART;VALUE=DATE-TIME:20230225T230000
TZNAME:BRT
TZOFFSETFROM:-0200
TZOFFSETTO:-0300
END:STANDARD
END:VTIMEZONE
END:VCALENDAR
