BEGIN:VCALENDAR
VERSION:2.0
PRODID:-//Plone.org//NONSGML plone.app.event//EN
X-WR-TIMEZONE:Brazil/West
BEGIN:VEVENT
SUMMARY:Reuniões Ordinárias da Comissão de Saúde\, Higiene e Promoçã
 o Social.
DTSTART;TZID=Brazil/East;VALUE=DATE-TIME:20240730T090000
DTEND;TZID=Brazil/East;VALUE=DATE-TIME:20240730T103000
DTSTAMP;VALUE=DATE-TIME:20260419T231007Z
UID:ff179c894ed14488ae2b65bffc4454f8@www.caceres.mt.leg.br
CREATED;VALUE=DATE-TIME:20240228T121513Z
LAST-MODIFIED;VALUE=DATE-TIME:20240228T121518Z
LOCATION:Câmara Municipal de Cáceres
URL:https://www.caceres.mt.leg.br/institucional/eventos/reunioes-ordinaria
 s-da-comissao-de-saude-higiene-e-promocao-social-13
END:VEVENT
BEGIN:VTIMEZONE
TZID:Brazil/East
X-LIC-LOCATION:Brazil/East
BEGIN:STANDARD
DTSTART;VALUE=DATE-TIME:20240217T230000
TZNAME:BRT
TZOFFSETFROM:-0200
TZOFFSETTO:-0300
END:STANDARD
END:VTIMEZONE
END:VCALENDAR
