BEGIN:VCALENDAR
VERSION:2.0
PRODID:-//Plone.org//NONSGML plone.app.event//EN
X-WR-TIMEZONE:Brazil/West
BEGIN:VEVENT
SUMMARY:Reuniões Ordinárias da Comissão de Saúde\, Higiene e Promoçã
 o Social.
DTSTART;TZID=Brazil/West;VALUE=DATE-TIME:20240528T090000
DTEND;TZID=Brazil/West;VALUE=DATE-TIME:20240528T103000
DTSTAMP;VALUE=DATE-TIME:20260420T193956Z
UID:e554345e1b994d60b982f457f10bde2c@www.caceres.mt.leg.br
CREATED;VALUE=DATE-TIME:20240228T121316Z
LAST-MODIFIED;VALUE=DATE-TIME:20240503T145005Z
LOCATION:Câmara Municipal de Cáceres
URL:https://www.caceres.mt.leg.br/institucional/eventos/reunioes-ordinaria
 s-da-comissao-de-saude-higiene-e-promocao-social-11
END:VEVENT
BEGIN:VTIMEZONE
TZID:Brazil/West
X-LIC-LOCATION:Brazil/West
BEGIN:STANDARD
DTSTART;VALUE=DATE-TIME:19940219T230000
TZNAME:AMT
TZOFFSETFROM:-0300
TZOFFSETTO:-0400
END:STANDARD
END:VTIMEZONE
END:VCALENDAR
