BEGIN:VCALENDAR
VERSION:2.0
PRODID:-//Plone.org//NONSGML plone.app.event//EN
X-WR-TIMEZONE:Brazil/West
BEGIN:VEVENT
SUMMARY:Reunião: Projeto de lei n°085 de 30 de Agosto 2023 (LOA)
DTSTART;TZID=Brazil/East;VALUE=DATE-TIME:20231205T090000
DTEND;TZID=Brazil/East;VALUE=DATE-TIME:20231205T110000
DTSTAMP;VALUE=DATE-TIME:20260419T131040Z
UID:341f22e30d334998be7f90d8108f1959@www.caceres.mt.leg.br
CREATED;VALUE=DATE-TIME:20231129T164502Z
DESCRIPTION:Pedido pelo 1doc ofício nº5.830/2023\, gabinete do vereador 
 Pastor Júnio.
LAST-MODIFIED;VALUE=DATE-TIME:20231129T164514Z
LOCATION:Câmara Municipal de Cáceres
URL:https://www.caceres.mt.leg.br/institucional/eventos/reuniao-projeto-de
 -lei-ndeg085-de-30-de-agosto-2023-loa
END:VEVENT
BEGIN:VTIMEZONE
TZID:Brazil/East
X-LIC-LOCATION:Brazil/East
BEGIN:DAYLIGHT
DTSTART;VALUE=DATE-TIME:20231015T010000
TZNAME:BRST
TZOFFSETFROM:-0300
TZOFFSETTO:-0200
END:DAYLIGHT
END:VTIMEZONE
END:VCALENDAR
