BEGIN:VCALENDAR
VERSION:2.0
PRODID:-//Plone.org//NONSGML plone.app.event//EN
X-WR-TIMEZONE:Brazil/West
BEGIN:VEVENT
SUMMARY:Reunião Assunto: Política Nacional Aldir Blanc de Fomenta à Cul
 tura (PNAB)
DTSTART;TZID=Brazil/West;VALUE=DATE-TIME:20240517T150000
DTEND;TZID=Brazil/West;VALUE=DATE-TIME:20240517T173000
DTSTAMP;VALUE=DATE-TIME:20260420T051806Z
UID:2874cceb2cf24db5beba9fe55414362a@www.caceres.mt.leg.br
CREATED;VALUE=DATE-TIME:20240506T141100Z
DESCRIPTION:Pedido pelo 1doc ofício n°026/2024\, pelo senhor Ricardo Van
 ini. Coodenador Histórico Cultural e Turismo.
LAST-MODIFIED;VALUE=DATE-TIME:20240506T141456Z
LOCATION:Câmara Municipal de Cáceres
URL:https://www.caceres.mt.leg.br/institucional/eventos/reuniao-politica-n
 acional-aldir-blanc-de-fomenta-a-cultura-pnab
END:VEVENT
BEGIN:VTIMEZONE
TZID:Brazil/West
X-LIC-LOCATION:Brazil/West
BEGIN:STANDARD
DTSTART;VALUE=DATE-TIME:19940219T230000
TZNAME:AMT
TZOFFSETFROM:-0300
TZOFFSETTO:-0400
END:STANDARD
END:VTIMEZONE
END:VCALENDAR
