BEGIN:VCALENDAR
VERSION:2.0
PRODID:-//Plone.org//NONSGML plone.app.event//EN
X-WR-TIMEZONE:Brazil/West
BEGIN:VEVENT
SUMMARY:Reunião \,para discutir mudança no sentido do tráfego da Rua do
 s Caçadores.
DTSTART;TZID=Brazil/East;VALUE=DATE-TIME:20240308T190000
DTEND;TZID=Brazil/East;VALUE=DATE-TIME:20240308T213000
DTSTAMP;VALUE=DATE-TIME:20260420T194003Z
UID:7cbeb0d6e1124aea960db4e8f5a742b8@www.caceres.mt.leg.br
CREATED;VALUE=DATE-TIME:20240301T114849Z
DESCRIPTION:Pedido  pessoalmente pelo senhor Luiz\,  oficio nº001/2024- C
 SSM/MT. 
LAST-MODIFIED;VALUE=DATE-TIME:20240301T115947Z
LOCATION:Câmara Municipal de Cáceres
URL:https://www.caceres.mt.leg.br/institucional/eventos/reuniao-para-discu
 tir-mudanca-no-sentido-do-trafego-da-rua-dos-cacadores
END:VEVENT
BEGIN:VTIMEZONE
TZID:Brazil/East
X-LIC-LOCATION:Brazil/East
BEGIN:STANDARD
DTSTART;VALUE=DATE-TIME:20240217T230000
TZNAME:BRT
TZOFFSETFROM:-0200
TZOFFSETTO:-0300
END:STANDARD
END:VTIMEZONE
END:VCALENDAR
