BEGIN:VCALENDAR
VERSION:2.0
PRODID:-//Plone.org//NONSGML plone.app.event//EN
X-WR-TIMEZONE:Brazil/West
BEGIN:VEVENT
SUMMARY:Reunião Ordinária da Comissão de Saúde\, Higiene e Promoção 
 Social.
DTSTART;TZID=Brazil/East;VALUE=DATE-TIME:20240227T090000
DTEND;TZID=Brazil/East;VALUE=DATE-TIME:20240227T110000
DTSTAMP;VALUE=DATE-TIME:20260420T193956Z
UID:31dd8520e44a4e07a85b5d63dfd58ff6@www.caceres.mt.leg.br
CREATED;VALUE=DATE-TIME:20240117T145636Z
LAST-MODIFIED;VALUE=DATE-TIME:20240118T145620Z
LOCATION:Câmara Municipal de Cáceres
URL:https://www.caceres.mt.leg.br/institucional/eventos/reuniao-ordinaria-
 da-comissao-de-saude-higiene-e-promocao-social
END:VEVENT
BEGIN:VTIMEZONE
TZID:Brazil/East
X-LIC-LOCATION:Brazil/East
BEGIN:STANDARD
DTSTART;VALUE=DATE-TIME:20240217T230000
TZNAME:BRT
TZOFFSETFROM:-0200
TZOFFSETTO:-0300
END:STANDARD
END:VTIMEZONE
END:VCALENDAR
