BEGIN:VCALENDAR
VERSION:2.0
PRODID:-//Plone.org//NONSGML plone.app.event//EN
X-WR-TIMEZONE:Brazil/West
BEGIN:VEVENT
SUMMARY:Reunião\, ONG Parceiros Voluntários\, Assunto: Projeto " ÁGUAS 
 E AGROFLORESTAS.
DTSTART;TZID=Brazil/West;VALUE=DATE-TIME:20240524T130000
DTEND;TZID=Brazil/West;VALUE=DATE-TIME:20240524T180000
DTSTAMP;VALUE=DATE-TIME:20260419T224447Z
UID:35a8be962ddb455f8ed43a95bd776cec@www.caceres.mt.leg.br
CREATED;VALUE=DATE-TIME:20240516T150324Z
DESCRIPTION:Pedido pelo 1doc ofício n°014/2024\, pelo senhor José Alfre
 do Nahas\, Superintendente-ONG PARCEIROS VOLUNTÁRIOS.
LAST-MODIFIED;VALUE=DATE-TIME:20240516T150401Z
LOCATION:Câmara Municipal de Cáceres
URL:https://www.caceres.mt.leg.br/institucional/eventos/reuniao-ong-parcei
 ros-voluntarios-assunto-projeto-aguas-e-agroflorestas
END:VEVENT
BEGIN:VTIMEZONE
TZID:Brazil/West
X-LIC-LOCATION:Brazil/West
BEGIN:STANDARD
DTSTART;VALUE=DATE-TIME:19940219T230000
TZNAME:AMT
TZOFFSETFROM:-0300
TZOFFSETTO:-0400
END:STANDARD
END:VTIMEZONE
END:VCALENDAR
