BEGIN:VCALENDAR
VERSION:2.0
PRODID:-//Plone.org//NONSGML plone.app.event//EN
X-WR-TIMEZONE:Brazil/West
BEGIN:VEVENT
SUMMARY:REUNIÃO DE COMISSÃO DE INDÚSTRIA\, COMÉRCIO\, AGROPECUÁRIA E 
 MEIO AMBIENTE
DTSTART;TZID=Brazil/West;VALUE=DATE-TIME:20251008T110000
DTEND;TZID=Brazil/West;VALUE=DATE-TIME:20251008T120000
DTSTAMP;VALUE=DATE-TIME:20260421T191011Z
UID:253f41a1fbc44c459bd2b637e633e978@www.caceres.mt.leg.br
CREATED;VALUE=DATE-TIME:20251007T151416Z
DESCRIPTION:Ofício Interno 5.371/2025  - Via 1DOC - Vereador Pacheco
LAST-MODIFIED;VALUE=DATE-TIME:20251007T151422Z
LOCATION:Câmara Municipal de Cáceres - MT
URL:https://www.caceres.mt.leg.br/institucional/eventos/reuniao-de-comissa
 o-de-industria-comercio-agropecuaria-e-meio-ambiente
END:VEVENT
BEGIN:VTIMEZONE
TZID:Brazil/West
X-LIC-LOCATION:Brazil/West
BEGIN:STANDARD
DTSTART;VALUE=DATE-TIME:19940219T230000
TZNAME:AMT
TZOFFSETFROM:-0300
TZOFFSETTO:-0400
END:STANDARD
END:VTIMEZONE
END:VCALENDAR
