BEGIN:VCALENDAR
VERSION:2.0
PRODID:-//Plone.org//NONSGML plone.app.event//EN
X-WR-TIMEZONE:Brazil/West
BEGIN:VEVENT
SUMMARY:Reunião : CONCEEL ( Conselho dos Consumidores de Energia Elétric
 a ).
DTSTART;TZID=Brazil/East;VALUE=DATE-TIME:20230720T193000
DTEND;TZID=Brazil/East;VALUE=DATE-TIME:20230720T213000
DTSTAMP;VALUE=DATE-TIME:20260424T011315Z
UID:f22473d03b764100a88c5b4ff4a10e83@www.caceres.mt.leg.br
CREATED;VALUE=DATE-TIME:20230710T161812Z
DESCRIPTION:Pedido pelo 1doc \, nº3.274/ 2023
LAST-MODIFIED;VALUE=DATE-TIME:20230710T161830Z
LOCATION:Câmara Municipal de Cáceres
URL:https://www.caceres.mt.leg.br/institucional/eventos/reuniao-conceel-co
 nselho-dos-consumidores-de-energia-eletrica
END:VEVENT
BEGIN:VTIMEZONE
TZID:Brazil/East
X-LIC-LOCATION:Brazil/East
BEGIN:STANDARD
DTSTART;VALUE=DATE-TIME:20230225T230000
TZNAME:BRT
TZOFFSETFROM:-0200
TZOFFSETTO:-0300
END:STANDARD
END:VTIMEZONE
END:VCALENDAR
