BEGIN:VCALENDAR
VERSION:2.0
PRODID:-//Plone.org//NONSGML plone.app.event//EN
X-WR-TIMEZONE:Brazil/West
BEGIN:VEVENT
SUMMARY:Reunião Comissão de Saúde Higiene e Promoção Social - 2025
DTSTART;TZID=Brazil/West;VALUE=DATE-TIME:20251125T090000
DTEND;TZID=Brazil/West;VALUE=DATE-TIME:20251125T100000
DTSTAMP;VALUE=DATE-TIME:20260419T195450Z
UID:cc5f9a70c38b418f8a7aa06341512bec@www.caceres.mt.leg.br
CREATED;VALUE=DATE-TIME:20250930T155256Z
DESCRIPTION:Ofício Interno 5.272/2025 - Via 1Doc - Vereadora Elis
LAST-MODIFIED;VALUE=DATE-TIME:20250930T155300Z
LOCATION:Câmara Municipal de Cáceres - MT
URL:https://www.caceres.mt.leg.br/institucional/eventos/reuniao-comissao-d
 e-saude-higiene-e-promocao-social-2025-5
END:VEVENT
BEGIN:VTIMEZONE
TZID:Brazil/West
X-LIC-LOCATION:Brazil/West
BEGIN:STANDARD
DTSTART;VALUE=DATE-TIME:19940219T230000
TZNAME:AMT
TZOFFSETFROM:-0300
TZOFFSETTO:-0400
END:STANDARD
END:VTIMEZONE
END:VCALENDAR
