BEGIN:VCALENDAR
VERSION:2.0
PRODID:-//Plone.org//NONSGML plone.app.event//EN
X-WR-TIMEZONE:Brazil/West
BEGIN:VEVENT
SUMMARY:Reunião: Comissão de Saúde\, Higiene e Promoção Social
DTSTART;TZID=Brazil/West;VALUE=DATE-TIME:20260304T083000
DTEND;TZID=Brazil/West;VALUE=DATE-TIME:20260304T093000
DTSTAMP;VALUE=DATE-TIME:20260420T002835Z
UID:e5ee44b3225b417fbcc98ab52d58abc3@www.caceres.mt.leg.br
CREATED;VALUE=DATE-TIME:20260304T114409Z
DESCRIPTION: Ofício Interno 693/2026 - Via 1 DOC - Vereadora Elis
LAST-MODIFIED;VALUE=DATE-TIME:20260304T114419Z
URL:https://www.caceres.mt.leg.br/institucional/eventos/reuniao-comissao-d
 e-saude-higiene-e-promocao-social-13
END:VEVENT
BEGIN:VTIMEZONE
TZID:Brazil/West
X-LIC-LOCATION:Brazil/West
BEGIN:STANDARD
DTSTART;VALUE=DATE-TIME:19940219T230000
TZNAME:AMT
TZOFFSETFROM:-0300
TZOFFSETTO:-0400
END:STANDARD
END:VTIMEZONE
END:VCALENDAR
