BEGIN:VCALENDAR
VERSION:2.0
PRODID:-//Plone.org//NONSGML plone.app.event//EN
X-WR-TIMEZONE:Brazil/West
BEGIN:VEVENT
SUMMARY:Reunião Comissão de Saúde\, Higiene e Promoção Social
DTSTART;TZID=Brazil/East;VALUE=DATE-TIME:20221213T090000
DTSTAMP;VALUE=DATE-TIME:20260424T154942Z
UID:20524d10ef784c328c0f603af7e08550@www.caceres.mt.leg.br
CREATED;VALUE=DATE-TIME:20220201T113651Z
DESCRIPTION:REUNIÃO MENSAL
LAST-MODIFIED;VALUE=DATE-TIME:20220201T113915Z
URL:https://www.caceres.mt.leg.br/institucional/eventos/reuniao-comissao-d
 e-saude-higiene-e-promocao-social-12
END:VEVENT
BEGIN:VTIMEZONE
TZID:Brazil/East
X-LIC-LOCATION:Brazil/East
BEGIN:DAYLIGHT
DTSTART;VALUE=DATE-TIME:20221016T010000
TZNAME:BRST
TZOFFSETFROM:-0300
TZOFFSETTO:-0200
END:DAYLIGHT
END:VTIMEZONE
END:VCALENDAR
