BEGIN:VCALENDAR
VERSION:2.0
PRODID:-//Plone.org//NONSGML plone.app.event//EN
X-WR-TIMEZONE:Brazil/West
BEGIN:VEVENT
SUMMARY:Reunião com Tema: ÓRFÃOS DO FEMINICÍDIO.
DTSTART;TZID=Brazil/East;VALUE=DATE-TIME:20231206T180000
DTEND;TZID=Brazil/East;VALUE=DATE-TIME:20231206T213000
DTSTAMP;VALUE=DATE-TIME:20260421T172831Z
UID:4d8f475c7f104568a7aead76138eb739@www.caceres.mt.leg.br
CREATED;VALUE=DATE-TIME:20231113T152603Z
DESCRIPTION:A pedido feito pelo 1doc nº5.441/2023 do gabinete da Vereador
 a Mazéh Silva.
LAST-MODIFIED;VALUE=DATE-TIME:20231113T152622Z
LOCATION:Câmara Municipal de Cáceres
URL:https://www.caceres.mt.leg.br/institucional/eventos/reuniao-com-tema-o
 rfaos-do-feminicidio
END:VEVENT
BEGIN:VTIMEZONE
TZID:Brazil/East
X-LIC-LOCATION:Brazil/East
BEGIN:DAYLIGHT
DTSTART;VALUE=DATE-TIME:20231015T010000
TZNAME:BRST
TZOFFSETFROM:-0300
TZOFFSETTO:-0200
END:DAYLIGHT
END:VTIMEZONE
END:VCALENDAR
