BEGIN:VCALENDAR
VERSION:2.0
PRODID:-//Plone.org//NONSGML plone.app.event//EN
X-WR-TIMEZONE:Brazil/West
BEGIN:VEVENT
SUMMARY:Reunião com os Auxiliares de Desenvolvimento Infantil (ADIS)
DTSTART;TZID=Brazil/East;VALUE=DATE-TIME:20240426T180000
DTEND;TZID=Brazil/East;VALUE=DATE-TIME:20240426T213000
DTSTAMP;VALUE=DATE-TIME:20260420T194002Z
UID:079b90e2bc3f4f919bab4d216f1de245@www.caceres.mt.leg.br
CREATED;VALUE=DATE-TIME:20240423T113354Z
DESCRIPTION:Pedido pelo 1doc ofício n°001/2024\, pedido pela senhora Gra
 nciane Aparecida da Rosa.
LAST-MODIFIED;VALUE=DATE-TIME:20240423T152936Z
LOCATION:Câmara Municipal de Cáceres
URL:https://www.caceres.mt.leg.br/institucional/eventos/reuniao-com-os-aux
 iliares-de-desenvolvimento-infantil-adis
END:VEVENT
BEGIN:VTIMEZONE
TZID:Brazil/East
X-LIC-LOCATION:Brazil/East
BEGIN:STANDARD
DTSTART;VALUE=DATE-TIME:20240217T230000
TZNAME:BRT
TZOFFSETFROM:-0200
TZOFFSETTO:-0300
END:STANDARD
END:VTIMEZONE
END:VCALENDAR
