BEGIN:VCALENDAR
VERSION:2.0
PRODID:-//Plone.org//NONSGML plone.app.event//EN
X-WR-TIMEZONE:Brazil/West
BEGIN:VEVENT
SUMMARY:Reunião com os Auxiliares de Desenvolvimento Infantil (ADI).
DTSTART;TZID=Brazil/West;VALUE=DATE-TIME:20241016T180000
DTEND;TZID=Brazil/West;VALUE=DATE-TIME:20241016T200000
DTSTAMP;VALUE=DATE-TIME:20260419T231008Z
UID:45b449ac3a71466da2c3810df33b81a7@www.caceres.mt.leg.br
CREATED;VALUE=DATE-TIME:20241011T154854Z
DESCRIPTION:Pedido pelo 1doc ofício nº4.548/2024\, gabinete da Vereadora
  Mazéh Silva.
LAST-MODIFIED;VALUE=DATE-TIME:20241011T154859Z
LOCATION:Câmara Municipal de Cáceres
URL:https://www.caceres.mt.leg.br/institucional/eventos/reuniao-com-os-aux
 iliares-de-desenvolvimento-infantil-adi
END:VEVENT
BEGIN:VTIMEZONE
TZID:Brazil/West
X-LIC-LOCATION:Brazil/West
BEGIN:STANDARD
DTSTART;VALUE=DATE-TIME:19940219T230000
TZNAME:AMT
TZOFFSETFROM:-0300
TZOFFSETTO:-0400
END:STANDARD
END:VTIMEZONE
END:VCALENDAR
