BEGIN:VCALENDAR
VERSION:2.0
PRODID:-//Plone.org//NONSGML plone.app.event//EN
X-WR-TIMEZONE:Brazil/West
BEGIN:VEVENT
SUMMARY:Reunião com o Secretário de Esporte Cristiano e o Coordenador Br
 uno Renostro  \,em atendimento ao requerimento do Vereador Leandro Santos 
 \,para esclarecimentos sobre a reforma do Estádio  Luiz Geraldo da Silva.
DTSTART;TZID=Brazil/East;VALUE=DATE-TIME:20230512T090000
DTEND;TZID=Brazil/East;VALUE=DATE-TIME:20230512T100000
DTSTAMP;VALUE=DATE-TIME:20260421T025259Z
UID:9922c36e364345c883a8608e9d800f5d@www.caceres.mt.leg.br
CREATED;VALUE=DATE-TIME:20230516T111956Z
LAST-MODIFIED;VALUE=DATE-TIME:20230516T112043Z
LOCATION:Câmara Municipal de Cáceres
URL:https://www.caceres.mt.leg.br/institucional/eventos/reuniao-com-o-secr
 etario-de-esporte-cristiano-e-o-coordenador-bruno-renostro-em-atendimento-
 ao-requerimento-do-vereador-leandro-santos-para-esclarecimentos-sobre-a-re
 forma-do-estadio-luiz-geraldo-da-silva
END:VEVENT
BEGIN:VTIMEZONE
TZID:Brazil/East
X-LIC-LOCATION:Brazil/East
BEGIN:STANDARD
DTSTART;VALUE=DATE-TIME:20230225T230000
TZNAME:BRT
TZOFFSETFROM:-0200
TZOFFSETTO:-0300
END:STANDARD
END:VTIMEZONE
END:VCALENDAR
