BEGIN:VCALENDAR
VERSION:2.0
PRODID:-//Plone.org//NONSGML plone.app.event//EN
X-WR-TIMEZONE:Brazil/West
BEGIN:VEVENT
SUMMARY:Reunião com o Presidente da Câmara e Vereadores: Para Tratar o E
 stado de Calamidade Pública do Município.
DTSTART;TZID=Brazil/East;VALUE=DATE-TIME:20240213T080000
DTEND;TZID=Brazil/East;VALUE=DATE-TIME:20240213T120000
DTSTAMP;VALUE=DATE-TIME:20260421T124026Z
UID:beb5a357f3da4d4a9a2a83018af3331d@www.caceres.mt.leg.br
CREATED;VALUE=DATE-TIME:20240220T124802Z
LAST-MODIFIED;VALUE=DATE-TIME:20240220T125200Z
LOCATION:Câmara Municipal de Cáceres
URL:https://www.caceres.mt.leg.br/institucional/eventos/reuniao-com-o-pres
 idente-e-vereadores-para-tratar-o-estado-de-calamidade-publica-do-municipi
 o
END:VEVENT
BEGIN:VTIMEZONE
TZID:Brazil/East
X-LIC-LOCATION:Brazil/East
BEGIN:DAYLIGHT
DTSTART;VALUE=DATE-TIME:20231015T010000
TZNAME:BRST
TZOFFSETFROM:-0300
TZOFFSETTO:-0200
END:DAYLIGHT
END:VTIMEZONE
END:VCALENDAR
