BEGIN:VCALENDAR
VERSION:2.0
PRODID:-//Plone.org//NONSGML plone.app.event//EN
X-WR-TIMEZONE:Brazil/West
BEGIN:VEVENT
SUMMARY:Projeto “Setembro Amarelo: Valorização da Vida”
DTSTART;TZID=Brazil/West;VALUE=DATE-TIME:20250909T083000
DTEND;TZID=Brazil/West;VALUE=DATE-TIME:20250909T093000
DTSTAMP;VALUE=DATE-TIME:20260419T214426Z
UID:e864fb7fafb949fc9834fd97993c4137@www.caceres.mt.leg.br
CREATED;VALUE=DATE-TIME:20250901T163119Z
DESCRIPTION:Ofício Interno 4.676/2025 -Via 1DOC - Vereador Flávio Negaç
 ão
LAST-MODIFIED;VALUE=DATE-TIME:20250901T163124Z
LOCATION:Câmara Municipal de Cáceres - MT
URL:https://www.caceres.mt.leg.br/institucional/eventos/projeto-201csetemb
 ro-amarelo-valorizacao-da-vida201d
END:VEVENT
BEGIN:VTIMEZONE
TZID:Brazil/West
X-LIC-LOCATION:Brazil/West
BEGIN:STANDARD
DTSTART;VALUE=DATE-TIME:19940219T230000
TZNAME:AMT
TZOFFSETFROM:-0300
TZOFFSETTO:-0400
END:STANDARD
END:VTIMEZONE
END:VCALENDAR
