BEGIN:VCALENDAR
VERSION:2.0
PRODID:-//Plone.org//NONSGML plone.app.event//EN
X-WR-TIMEZONE:Brazil/West
BEGIN:VEVENT
SUMMARY:Palestra: Transtorno do Espectro Autista (TEA): Conscientização\
 , Diagnóstico e Inclusão
DTSTART;TZID=Brazil/West;VALUE=DATE-TIME:20260428T080000
DTEND;TZID=Brazil/West;VALUE=DATE-TIME:20260428T103000
DTSTAMP;VALUE=DATE-TIME:20260424T212415Z
UID:ec1b66dfc0974d4f971063cedfda5d2a@www.caceres.mt.leg.br
CREATED;VALUE=DATE-TIME:20260422T114132Z
DESCRIPTION: Ofício Interno 1.685/2026 - Via 1DOC - Escola do Legislativo
LAST-MODIFIED;VALUE=DATE-TIME:20260422T114137Z
LOCATION:Câmara Municipal de Cáceres - MT
URL:https://www.caceres.mt.leg.br/institucional/eventos/palestra-transtorn
 o-do-espectro-autista-tea-conscientizacao-diagnostico-e-inclusao
END:VEVENT
BEGIN:VTIMEZONE
TZID:Brazil/West
X-LIC-LOCATION:Brazil/West
BEGIN:STANDARD
DTSTART;VALUE=DATE-TIME:19940219T230000
TZNAME:AMT
TZOFFSETFROM:-0300
TZOFFSETTO:-0400
END:STANDARD
END:VTIMEZONE
END:VCALENDAR
