BEGIN:VCALENDAR
VERSION:2.0
PRODID:-//Plone.org//NONSGML plone.app.event//EN
X-WR-TIMEZONE:Brazil/West
BEGIN:VEVENT
SUMMARY:Palestra: Sobre o Renascimento Econômico de Cáceres e Região.
DTSTART;TZID=Brazil/West;VALUE=DATE-TIME:20240628T190000
DTEND;TZID=Brazil/West;VALUE=DATE-TIME:20240628T220000
DTSTAMP;VALUE=DATE-TIME:20260420T194005Z
UID:db7374f8acc0408f86f11547a2b60e51@www.caceres.mt.leg.br
CREATED;VALUE=DATE-TIME:20240628T114147Z
DESCRIPTION:Pedido pelo 1doc ofício nº3.369/2024\, pelo gabinete do Vere
 ador Marcos Ribeiro.
LAST-MODIFIED;VALUE=DATE-TIME:20240628T114153Z
LOCATION:Câmara Municipal de Cáceres
URL:https://www.caceres.mt.leg.br/institucional/eventos/palestra-sobre-o-r
 enascimento-economico-de-caceres-e-regiao
END:VEVENT
BEGIN:VTIMEZONE
TZID:Brazil/West
X-LIC-LOCATION:Brazil/West
BEGIN:STANDARD
DTSTART;VALUE=DATE-TIME:19940219T230000
TZNAME:AMT
TZOFFSETFROM:-0300
TZOFFSETTO:-0400
END:STANDARD
END:VTIMEZONE
END:VCALENDAR
