BEGIN:VCALENDAR
VERSION:2.0
PRODID:-//Plone.org//NONSGML plone.app.event//EN
X-WR-TIMEZONE:Brazil/West
BEGIN:VEVENT
SUMMARY: Palestra: Programa de Integridade
DTSTART;TZID=Brazil/West;VALUE=DATE-TIME:20260305T080000
DTEND;TZID=Brazil/West;VALUE=DATE-TIME:20260305T090000
DTSTAMP;VALUE=DATE-TIME:20260420T145202Z
UID:5fcd559b9f0c47f1a781e9c4f3ffc941@www.caceres.mt.leg.br
CREATED;VALUE=DATE-TIME:20260304T162849Z
DESCRIPTION:Ofício Interno 727/2026 - Via 1Doc - Diretoria Geral
LAST-MODIFIED;VALUE=DATE-TIME:20260304T162855Z
URL:https://www.caceres.mt.leg.br/institucional/eventos/palestra-programa-
 de-integridade
END:VEVENT
BEGIN:VTIMEZONE
TZID:Brazil/West
X-LIC-LOCATION:Brazil/West
BEGIN:STANDARD
DTSTART;VALUE=DATE-TIME:19940219T230000
TZNAME:AMT
TZOFFSETFROM:-0300
TZOFFSETTO:-0400
END:STANDARD
END:VTIMEZONE
END:VCALENDAR
