BEGIN:VCALENDAR
VERSION:2.0
PRODID:-//Plone.org//NONSGML plone.app.event//EN
X-WR-TIMEZONE:Brazil/West
BEGIN:VEVENT
SUMMARY:Palestra com Urologista\, de  encerramento da Campanha do mês de 
 prevenção e combate ao câncer de próstata .
DTSTART;TZID=Brazil/East;VALUE=DATE-TIME:20231128T190000
DTEND;TZID=Brazil/East;VALUE=DATE-TIME:20231128T220000
DTSTAMP;VALUE=DATE-TIME:20260421T165715Z
UID:5a7786294ad44532b571735b3212933a@www.caceres.mt.leg.br
CREATED;VALUE=DATE-TIME:20231114T112237Z
DESCRIPTION:Pedido pelo 1doc oficio nº5.514/2023 gabinete vereadora Valde
 niria.
LAST-MODIFIED;VALUE=DATE-TIME:20231122T111905Z
LOCATION:Câmara Municipal de Cáceres
URL:https://www.caceres.mt.leg.br/institucional/eventos/palestra-com-urolo
 gista
END:VEVENT
BEGIN:VTIMEZONE
TZID:Brazil/East
X-LIC-LOCATION:Brazil/East
BEGIN:DAYLIGHT
DTSTART;VALUE=DATE-TIME:20231015T010000
TZNAME:BRST
TZOFFSETFROM:-0300
TZOFFSETTO:-0200
END:DAYLIGHT
END:VTIMEZONE
END:VCALENDAR
