BEGIN:VCALENDAR
VERSION:2.0
PRODID:-//Plone.org//NONSGML plone.app.event//EN
X-WR-TIMEZONE:Brazil/West
BEGIN:VEVENT
SUMMARY:Palestra: "Câncer de Mama: cuidados e afetos"
DTSTART;TZID=Brazil/West;VALUE=DATE-TIME:20251030T083000
DTEND;TZID=Brazil/West;VALUE=DATE-TIME:20251030T110000
DTSTAMP;VALUE=DATE-TIME:20260419T195202Z
UID:ad1ceee55de449079e7ce37d892422e2@www.caceres.mt.leg.br
CREATED;VALUE=DATE-TIME:20251010T134706Z
DESCRIPTION:Ofício Interno 5.453/2025 -  Diretoria Geral / Secretaria de 
 Imprensa / Escola do Legislativo
LAST-MODIFIED;VALUE=DATE-TIME:20251021T143113Z
LOCATION:Câmara Municipal de Cáceres - MT
URL:https://www.caceres.mt.leg.br/institucional/eventos/palestra-cancer-de
 -mama-cuidados-e-afetos
END:VEVENT
BEGIN:VTIMEZONE
TZID:Brazil/West
X-LIC-LOCATION:Brazil/West
BEGIN:STANDARD
DTSTART;VALUE=DATE-TIME:19940219T230000
TZNAME:AMT
TZOFFSETFROM:-0300
TZOFFSETTO:-0400
END:STANDARD
END:VTIMEZONE
END:VCALENDAR
