BEGIN:VCALENDAR
VERSION:2.0
PRODID:-//Plone.org//NONSGML plone.app.event//EN
X-WR-TIMEZONE:Brazil/West
BEGIN:VEVENT
SUMMARY:Oitivas - CPI Das Obras Públicas
DTSTART;TZID=Brazil/West;VALUE=DATE-TIME:20251209T080000
DTEND;TZID=Brazil/West;VALUE=DATE-TIME:20251209T200000
DTSTAMP;VALUE=DATE-TIME:20260421T103429Z
UID:5d8535d33671489a90100f7000258c79@www.caceres.mt.leg.br
CREATED;VALUE=DATE-TIME:20251201T142730Z
DESCRIPTION:Ofício Interno 6.467/2025  - Via 1 DOC - Vereadora Elis
LAST-MODIFIED;VALUE=DATE-TIME:20251204T114400Z
LOCATION:Câmara Municipal de Cáceres - MT
URL:https://www.caceres.mt.leg.br/institucional/eventos/oitivas-cpi-das-ob
 ras-publicas-1
END:VEVENT
BEGIN:VTIMEZONE
TZID:Brazil/West
X-LIC-LOCATION:Brazil/West
BEGIN:STANDARD
DTSTART;VALUE=DATE-TIME:19940219T230000
TZNAME:AMT
TZOFFSETFROM:-0300
TZOFFSETTO:-0400
END:STANDARD
END:VTIMEZONE
END:VCALENDAR
