BEGIN:VCALENDAR
VERSION:2.0
PRODID:-//Plone.org//NONSGML plone.app.event//EN
X-WR-TIMEZONE:Brazil/West
BEGIN:VEVENT
SUMMARY:Moção de Aplausos aos Líderes Comunitários 
DTSTART;TZID=Brazil/West;VALUE=DATE-TIME:20250829T100000
DTEND;TZID=Brazil/West;VALUE=DATE-TIME:20250829T110000
DTSTAMP;VALUE=DATE-TIME:20260419T115948Z
UID:8a900344e6d54a41823ab3fb156425e8@www.caceres.mt.leg.br
CREATED;VALUE=DATE-TIME:20250826T163029Z
DESCRIPTION: Ofício Interno 4.549/2025 - Via 1DOC - Vereador Marcos Ribei
 ro
LAST-MODIFIED;VALUE=DATE-TIME:20250828T164014Z
LOCATION:Câmara Municipal de Cáceres - MT
URL:https://www.caceres.mt.leg.br/institucional/eventos/mocao-de-aplausos-
 aos-lideres-comunitarios
END:VEVENT
BEGIN:VTIMEZONE
TZID:Brazil/West
X-LIC-LOCATION:Brazil/West
BEGIN:STANDARD
DTSTART;VALUE=DATE-TIME:19940219T230000
TZNAME:AMT
TZOFFSETFROM:-0300
TZOFFSETTO:-0400
END:STANDARD
END:VTIMEZONE
END:VCALENDAR
