BEGIN:VCALENDAR
VERSION:2.0
PRODID:-//Plone.org//NONSGML plone.app.event//EN
X-WR-TIMEZONE:Brazil/West
BEGIN:VEVENT
SUMMARY:Lançamento oficial do livro “A Câmara Municipal de Vila Maria 
 do Paraguai”
DTSTART;TZID=Brazil/West;VALUE=DATE-TIME:20251002T190000
DTEND;TZID=Brazil/West;VALUE=DATE-TIME:20251002T200000
DTSTAMP;VALUE=DATE-TIME:20260421T024519Z
UID:fc152fba56e640dfa50b8fc00d5d2b0e@www.caceres.mt.leg.br
CREATED;VALUE=DATE-TIME:20250812T164307Z
DESCRIPTION:Ofício Interno 4.272/2025 - Via 1Doc - Vereador Franco Valér
 io
LAST-MODIFIED;VALUE=DATE-TIME:20250812T164314Z
LOCATION:Câmara Municipal de Cáceres - MT
URL:https://www.caceres.mt.leg.br/institucional/eventos/lancamento-oficial
 -do-livro-201ca-camara-municipal-de-vila-maria-do-paraguai201d
END:VEVENT
BEGIN:VTIMEZONE
TZID:Brazil/West
X-LIC-LOCATION:Brazil/West
BEGIN:STANDARD
DTSTART;VALUE=DATE-TIME:19940219T230000
TZNAME:AMT
TZOFFSETFROM:-0300
TZOFFSETTO:-0400
END:STANDARD
END:VTIMEZONE
END:VCALENDAR
