BEGIN:VCALENDAR
VERSION:2.0
PRODID:-//Plone.org//NONSGML plone.app.event//EN
X-WR-TIMEZONE:Brazil/West
BEGIN:VEVENT
SUMMARY:Curso: Ética e Cidadania
DTSTART;TZID=Brazil/West;VALUE=DATE-TIME:20250923T073000
DTEND;TZID=Brazil/West;VALUE=DATE-TIME:20250923T123000
DTSTAMP;VALUE=DATE-TIME:20260420T024340Z
UID:7c4d4cffa8774146a365b821472cfa06@www.caceres.mt.leg.br
CREATED;VALUE=DATE-TIME:20250908T151556Z
DESCRIPTION: Ofício Interno 4.802/2025 - Via 1DOC - Escola do Legislativo
LAST-MODIFIED;VALUE=DATE-TIME:20250908T151600Z
LOCATION:Câmara Municipal de Cáceres - MT
URL:https://www.caceres.mt.leg.br/institucional/eventos/curso-etica-e-cida
 dania-1
END:VEVENT
BEGIN:VTIMEZONE
TZID:Brazil/West
X-LIC-LOCATION:Brazil/West
BEGIN:STANDARD
DTSTART;VALUE=DATE-TIME:19940219T230000
TZNAME:AMT
TZOFFSETFROM:-0300
TZOFFSETTO:-0400
END:STANDARD
END:VTIMEZONE
END:VCALENDAR
