BEGIN:VCALENDAR
VERSION:2.0
PRODID:-//Plone.org//NONSGML plone.app.event//EN
X-WR-TIMEZONE:Brazil/West
BEGIN:VEVENT
SUMMARY:Curso: Aspectos Legais no Atendimento
DTSTART;TZID=Brazil/West;VALUE=DATE-TIME:20250904T073000
DTEND;TZID=Brazil/West;VALUE=DATE-TIME:20250904T123000
DTSTAMP;VALUE=DATE-TIME:20260419T093833Z
UID:4784fc7ea5054a32ae080ca72dd8082b@www.caceres.mt.leg.br
CREATED;VALUE=DATE-TIME:20250822T141623Z
DESCRIPTION:Ofício Interno 4.503/2025  - Via 1DOC Escola do Legislativo
LAST-MODIFIED;VALUE=DATE-TIME:20250902T133318Z
LOCATION:Câmara Municipal de Cáceres - MT
URL:https://www.caceres.mt.leg.br/institucional/eventos/curso-aspectos-leg
 ais-1
END:VEVENT
BEGIN:VTIMEZONE
TZID:Brazil/West
X-LIC-LOCATION:Brazil/West
BEGIN:STANDARD
DTSTART;VALUE=DATE-TIME:19940219T230000
TZNAME:AMT
TZOFFSETFROM:-0300
TZOFFSETTO:-0400
END:STANDARD
END:VTIMEZONE
END:VCALENDAR
