BEGIN:VCALENDAR
VERSION:2.0
PRODID:-//Plone.org//NONSGML plone.app.event//EN
X-WR-TIMEZONE:Brazil/West
BEGIN:VEVENT
SUMMARY:Reunião de Pauta.
DTSTART;TZID=Brazil/West;VALUE=DATE-TIME:20240510T110000
DTEND;TZID=Brazil/West;VALUE=DATE-TIME:20240510T123000
DTSTAMP;VALUE=DATE-TIME:20260420T102146Z
UID:756058d9f64c49a1b15a2d57ffc3a37c@www.caceres.mt.leg.br
CREATED;VALUE=DATE-TIME:20240506T135509Z
LAST-MODIFIED;VALUE=DATE-TIME:20240506T135519Z
LOCATION:Câmara Municipal de Cáceres
URL:https://www.caceres.mt.leg.br/institucional/eventos/copy_of_reuniao-de
 -pauta-5
END:VEVENT
BEGIN:VTIMEZONE
TZID:Brazil/West
X-LIC-LOCATION:Brazil/West
BEGIN:STANDARD
DTSTART;VALUE=DATE-TIME:19940219T230000
TZNAME:AMT
TZOFFSETFROM:-0300
TZOFFSETTO:-0400
END:STANDARD
END:VTIMEZONE
END:VCALENDAR
