BEGIN:VCALENDAR
VERSION:2.0
PRODID:-//Plone.org//NONSGML plone.app.event//EN
X-WR-TIMEZONE:Brazil/West
BEGIN:VEVENT
SUMMARY:Convocação: Renião com os Vereadores  para discutir os assunto 
 referente a CMC.
DTSTART;TZID=Brazil/East;VALUE=DATE-TIME:20230607T103000
DTEND;TZID=Brazil/East;VALUE=DATE-TIME:20230607T113000
DTSTAMP;VALUE=DATE-TIME:20260419T145315Z
UID:5e1cd1df05e541d9a7c36d6da8fe7b1f@www.caceres.mt.leg.br
CREATED;VALUE=DATE-TIME:20230606T115440Z
DESCRIPTION:.
LAST-MODIFIED;VALUE=DATE-TIME:20230606T115454Z
LOCATION:Câmara Municipal de Cáceres
URL:https://www.caceres.mt.leg.br/institucional/eventos/convocacao-reniao-
 com-os-vereadores-para-discutir-os-assunto-referente-a-cmc
END:VEVENT
BEGIN:VTIMEZONE
TZID:Brazil/East
X-LIC-LOCATION:Brazil/East
BEGIN:STANDARD
DTSTART;VALUE=DATE-TIME:20230225T230000
TZNAME:BRT
TZOFFSETFROM:-0200
TZOFFSETTO:-0300
END:STANDARD
END:VTIMEZONE
END:VCALENDAR
