BEGIN:VCALENDAR
VERSION:2.0
PRODID:-//Plone.org//NONSGML plone.app.event//EN
X-WR-TIMEZONE:Brazil/West
BEGIN:VEVENT
SUMMARY:Audiência Pública - Tema: Impactos Socioeconômicos da Implanta
 ção da ZPE em Cáceres.
DTSTART;TZID=Brazil/East;VALUE=DATE-TIME:20240411T090000
DTEND;TZID=Brazil/East;VALUE=DATE-TIME:20240411T110000
DTSTAMP;VALUE=DATE-TIME:20260420T193952Z
UID:e13802e5e7044333b88790360567210a@www.caceres.mt.leg.br
CREATED;VALUE=DATE-TIME:20240402T141525Z
DESCRIPTION:Pedido pessoalmente pelo Diretor Presidente Adilson Domingos\,
  ofício nº41/2024-DIPRES/AZPEC.
LAST-MODIFIED;VALUE=DATE-TIME:20240402T163821Z
LOCATION:Câmara Municipal de Cáceres
URL:https://www.caceres.mt.leg.br/institucional/eventos/audiencia-publica-
 tema-impactos-socioeconomicos-da-implantacao-da-zpe-em-caceres
END:VEVENT
BEGIN:VTIMEZONE
TZID:Brazil/East
X-LIC-LOCATION:Brazil/East
BEGIN:STANDARD
DTSTART;VALUE=DATE-TIME:20240217T230000
TZNAME:BRT
TZOFFSETFROM:-0200
TZOFFSETTO:-0300
END:STANDARD
END:VTIMEZONE
END:VCALENDAR
