BEGIN:VCALENDAR
VERSION:2.0
PRODID:-//Plone.org//NONSGML plone.app.event//EN
X-WR-TIMEZONE:Brazil/West
BEGIN:VEVENT
SUMMARY:Audiência Pública - Tarifa de água e a saída da ARIS
DTSTART;TZID=Brazil/East;VALUE=DATE-TIME:20221123T190000
DTSTAMP;VALUE=DATE-TIME:20260423T155028Z
UID:afb28ca1c17e470cb491655c6840212a@www.caceres.mt.leg.br
CONTACT:https://www.caceres.mt.leg.br/processo-legislativo/audiencia-publi
 ca/audiencias-publicas-2022/audiencia-publica-23-10-2022
CREATED;VALUE=DATE-TIME:20221111T114504Z
LAST-MODIFIED;VALUE=DATE-TIME:20221111T114530Z
URL:https://www.caceres.mt.leg.br/institucional/eventos/audiencia-publica-
 tarifa-de-agua-e-a-saida-da-aris
END:VEVENT
BEGIN:VTIMEZONE
TZID:Brazil/East
X-LIC-LOCATION:Brazil/East
BEGIN:DAYLIGHT
DTSTART;VALUE=DATE-TIME:20221016T010000
TZNAME:BRST
TZOFFSETFROM:-0300
TZOFFSETTO:-0200
END:DAYLIGHT
END:VTIMEZONE
END:VCALENDAR
