BEGIN:VCALENDAR
VERSION:2.0
PRODID:-//Plone.org//NONSGML plone.app.event//EN
X-WR-TIMEZONE:Brazil/West
BEGIN:VEVENT
SUMMARY:Audiência Pública: Desafios e Demandas da Comunidade  Autista em
  Cáceres - MT
DTSTART;TZID=Brazil/West;VALUE=DATE-TIME:20251106T180000
DTEND;TZID=Brazil/West;VALUE=DATE-TIME:20251106T190000
DTSTAMP;VALUE=DATE-TIME:20260419T130714Z
UID:c0bc97fb28664e0d878d4838b867b6fa@www.caceres.mt.leg.br
CREATED;VALUE=DATE-TIME:20251017T165828Z
DESCRIPTION: Ofício Interno 5.269/2025  - Via 1DOC - Vereadora Elis
LAST-MODIFIED;VALUE=DATE-TIME:20251020T154104Z
LOCATION:Câmara Municipal de Cáceres - MT
URL:https://www.caceres.mt.leg.br/institucional/eventos/audiencia-publica-
 sobre-autismo
END:VEVENT
BEGIN:VTIMEZONE
TZID:Brazil/West
X-LIC-LOCATION:Brazil/West
BEGIN:STANDARD
DTSTART;VALUE=DATE-TIME:19940219T230000
TZNAME:AMT
TZOFFSETFROM:-0300
TZOFFSETTO:-0400
END:STANDARD
END:VTIMEZONE
END:VCALENDAR
