BEGIN:VCALENDAR
VERSION:2.0
PRODID:-//Plone.org//NONSGML plone.app.event//EN
X-WR-TIMEZONE:Brazil/West
BEGIN:VEVENT
SUMMARY:Audiência Pública - Referente ao Plano Diretor do Município de 
 Cáceres\, na Área da Saúde.
DTSTART;TZID=Brazil/East;VALUE=DATE-TIME:20240315T090000
DTEND;TZID=Brazil/East;VALUE=DATE-TIME:20240315T110000
DTSTAMP;VALUE=DATE-TIME:20260421T040048Z
UID:05a08dc1f3804627aed2d602c4c9ce98@www.caceres.mt.leg.br
CREATED;VALUE=DATE-TIME:20240312T135900Z
DESCRIPTION:Pedido pelo 1doc oficio 1198/2024\, gabinete da Vereadora Vald
 eniria.
LAST-MODIFIED;VALUE=DATE-TIME:20240312T135909Z
LOCATION:Câmara Municipal de Cáceres
URL:https://www.caceres.mt.leg.br/institucional/eventos/audiencia-publica-
 referente-ao-plano-diretor-do-municipio-de-caceres-na-area-da-saude
END:VEVENT
BEGIN:VTIMEZONE
TZID:Brazil/East
X-LIC-LOCATION:Brazil/East
BEGIN:STANDARD
DTSTART;VALUE=DATE-TIME:20240217T230000
TZNAME:BRT
TZOFFSETFROM:-0200
TZOFFSETTO:-0300
END:STANDARD
END:VTIMEZONE
END:VCALENDAR
