BEGIN:VCALENDAR
VERSION:2.0
PRODID:-//Plone.org//NONSGML plone.app.event//EN
X-WR-TIMEZONE:Brazil/West
BEGIN:VEVENT
SUMMARY:Audiência Publica: Para  Discutir a Organização do seguimentos 
 Cultural da música e a Lei nº12.
DTSTART;TZID=Brazil/East;VALUE=DATE-TIME:20230815T190000
DTEND;TZID=Brazil/East;VALUE=DATE-TIME:20230815T220000
DTSTAMP;VALUE=DATE-TIME:20260424T234041Z
UID:81712f1bd3e74a8fb8d6599f9a112c7c@www.caceres.mt.leg.br
CREATED;VALUE=DATE-TIME:20230718T141455Z
DESCRIPTION:Pedido pelo 1 doc\, nº 3.430/2023\, Gabinete vereador Leandro
 .
LAST-MODIFIED;VALUE=DATE-TIME:20230718T141509Z
LOCATION:Câmara Municipal de Cáceres
URL:https://www.caceres.mt.leg.br/institucional/eventos/audiencia-publica-
 para-discutir-a-organizacao-do-seguimentos-cultural-da-musica-e-a-lei-no12
END:VEVENT
BEGIN:VTIMEZONE
TZID:Brazil/East
X-LIC-LOCATION:Brazil/East
BEGIN:STANDARD
DTSTART;VALUE=DATE-TIME:20230225T230000
TZNAME:BRT
TZOFFSETFROM:-0200
TZOFFSETTO:-0300
END:STANDARD
END:VTIMEZONE
END:VCALENDAR
