BEGIN:VCALENDAR
VERSION:2.0
PRODID:-//Plone.org//NONSGML plone.app.event//EN
X-WR-TIMEZONE:Brazil/West
BEGIN:VEVENT
SUMMARY:Audiência Pública - Orçamento da Cultura para 2022 e 2023 e a c
 riação e implantação do Sistema e Plano Municipal de Cultura de Cácer
 es
DTSTART;TZID=Brazil/East;VALUE=DATE-TIME:20221208T180000
DTSTAMP;VALUE=DATE-TIME:20260424T154933Z
UID:88590aa79d6c43329b392ea605b0dcf3@www.caceres.mt.leg.br
CREATED;VALUE=DATE-TIME:20221130T111808Z
DESCRIPTION:Realização: Comissão de Educação\, Desportos\, Cultura e 
 Turismo
LAST-MODIFIED;VALUE=DATE-TIME:20221130T161805Z
URL:https://www.caceres.mt.leg.br/institucional/eventos/audiencia-publica-
 orcamento-da-cultura-para-2022-e-2023-e-a-criacao-e-implantacao-do-sistema
 -e-plano-municipal-de-cultura-de-caceres
END:VEVENT
BEGIN:VTIMEZONE
TZID:Brazil/East
X-LIC-LOCATION:Brazil/East
BEGIN:DAYLIGHT
DTSTART;VALUE=DATE-TIME:20221016T010000
TZNAME:BRST
TZOFFSETFROM:-0300
TZOFFSETTO:-0200
END:DAYLIGHT
END:VTIMEZONE
END:VCALENDAR
