BEGIN:VCALENDAR
VERSION:2.0
PRODID:-//Plone.org//NONSGML plone.app.event//EN
X-WR-TIMEZONE:Brazil/West
BEGIN:VEVENT
SUMMARY:Audiência Pública Municipal. SMS 
DTSTART;TZID=Brazil/East;VALUE=DATE-TIME:20230928T083000
DTEND;TZID=Brazil/East;VALUE=DATE-TIME:20230928T113000
DTSTAMP;VALUE=DATE-TIME:20260422T190108Z
UID:cb156a9ae76f446e9ff20b5b20ba9bcc@www.caceres.mt.leg.br
CREATED;VALUE=DATE-TIME:20230926T155500Z
DESCRIPTION:Pedido pelo 1 doc ofício n º353/2023 Gabinete  SMS\, para ap
 resentação do Relatório Detalhado do (segundo) quadrimestre do presente
  exercício.
LAST-MODIFIED;VALUE=DATE-TIME:20230926T155518Z
LOCATION:Câmara Municipal de Cáceres
URL:https://www.caceres.mt.leg.br/institucional/eventos/audiencia-publica-
 municipal-sms
END:VEVENT
BEGIN:VTIMEZONE
TZID:Brazil/East
X-LIC-LOCATION:Brazil/East
BEGIN:STANDARD
DTSTART;VALUE=DATE-TIME:20230225T230000
TZNAME:BRT
TZOFFSETFROM:-0200
TZOFFSETTO:-0300
END:STANDARD
END:VTIMEZONE
END:VCALENDAR
