BEGIN:VCALENDAR
VERSION:2.0
PRODID:-//Plone.org//NONSGML plone.app.event//EN
X-WR-TIMEZONE:Brazil/West
BEGIN:VEVENT
SUMMARY:Audiência Pública -  Mobilidade Urbana 
DTSTART;TZID=Brazil/East;VALUE=DATE-TIME:20221014T090000
DTSTAMP;VALUE=DATE-TIME:20260423T025726Z
UID:e1dbf53ecd4b4be2b61a84afd4d1495e@www.caceres.mt.leg.br
CREATED;VALUE=DATE-TIME:20221014T121546Z
DESCRIPTION:Assunto: Instalação de faixas elevadas na Avenida 7 de Setem
 bro\, Avenida Talhamares\, Avenida Tancredo Neves e a mudança do sentido 
 da Rua Coronel Ponce onde será feito uma rotatória.\n\nRealização: Com
 issão de Economia\, Finanças e Planejamento
LAST-MODIFIED;VALUE=DATE-TIME:20221014T121622Z
URL:https://www.caceres.mt.leg.br/institucional/eventos/audiencia-publica-
 mobilidade-urbana
END:VEVENT
BEGIN:VTIMEZONE
TZID:Brazil/East
X-LIC-LOCATION:Brazil/East
BEGIN:STANDARD
DTSTART;VALUE=DATE-TIME:20220219T230000
TZNAME:BRT
TZOFFSETFROM:-0200
TZOFFSETTO:-0300
END:STANDARD
END:VTIMEZONE
END:VCALENDAR
