BEGIN:VCALENDAR
VERSION:2.0
PRODID:-//Plone.org//NONSGML plone.app.event//EN
X-WR-TIMEZONE:Brazil/West
BEGIN:VEVENT
SUMMARY:Audiência Pública de Ouvidoria -ARGER
DTSTART;TZID=Brazil/East;VALUE=DATE-TIME:20231025T090000
DTEND;TZID=Brazil/East;VALUE=DATE-TIME:20231025T113000
DTSTAMP;VALUE=DATE-TIME:20260423T155031Z
UID:704cee2e6fc94bc081b2fb70af2d1102@www.caceres.mt.leg.br
CREATED;VALUE=DATE-TIME:20230925T165020Z
DESCRIPTION:Pedido pelo 1doc ofício nº4.480/2023 gabinete vereador Luiz 
 Landin.
LAST-MODIFIED;VALUE=DATE-TIME:20230925T165029Z
LOCATION:Câmara Municipal  de Cáceres.
URL:https://www.caceres.mt.leg.br/institucional/eventos/audiencia-publica-
 de-ouvidoria-arger
END:VEVENT
BEGIN:VTIMEZONE
TZID:Brazil/East
X-LIC-LOCATION:Brazil/East
BEGIN:DAYLIGHT
DTSTART;VALUE=DATE-TIME:20231015T010000
TZNAME:BRST
TZOFFSETFROM:-0300
TZOFFSETTO:-0200
END:DAYLIGHT
END:VTIMEZONE
END:VCALENDAR
