BEGIN:VCALENDAR
VERSION:2.0
PRODID:-//Plone.org//NONSGML plone.app.event//EN
X-WR-TIMEZONE:Brazil/West
BEGIN:VEVENT
SUMMARY:Audiência Pública :Apresentação do Plano Diretor\, projeto nº
  79/2023
DTSTART;TZID=Brazil/West;VALUE=DATE-TIME:20240627T183000
DTEND;TZID=Brazil/West;VALUE=DATE-TIME:20240627T220000
DTSTAMP;VALUE=DATE-TIME:20260419T224459Z
UID:9a0515edffe5434481a2cfb14f705a7f@www.caceres.mt.leg.br
CREATED;VALUE=DATE-TIME:20240514T144211Z
DESCRIPTION:Pedido pelo 1doc\, do gabinete do Vereador Cézare Pastorello.
LAST-MODIFIED;VALUE=DATE-TIME:20240514T144216Z
LOCATION:Câmara Municipal de Cáceres
URL:https://www.caceres.mt.leg.br/institucional/eventos/audiencia-publica-
 apresentacao-do-plano-diretor-projeto-no-79-2023-3
END:VEVENT
BEGIN:VTIMEZONE
TZID:Brazil/West
X-LIC-LOCATION:Brazil/West
BEGIN:STANDARD
DTSTART;VALUE=DATE-TIME:19940219T230000
TZNAME:AMT
TZOFFSETFROM:-0300
TZOFFSETTO:-0400
END:STANDARD
END:VTIMEZONE
END:VCALENDAR
