BEGIN:VCALENDAR
VERSION:2.0
PRODID:-//Plone.org//NONSGML plone.app.event//EN
X-WR-TIMEZONE:Brazil/West
BEGIN:VEVENT
SUMMARY:Curso: Ética e Cidadania
DTSTART;TZID=Brazil/West;VALUE=DATE-TIME:20250917T073000
DTEND;TZID=Brazil/West;VALUE=DATE-TIME:20250917T123000
DTSTAMP;VALUE=DATE-TIME:20260419T121943Z
UID:b69575817ff246c4b83a4462dbfce6ef@www.caceres.mt.leg.br
CREATED;VALUE=DATE-TIME:20250901T162627Z
DESCRIPTION: Ofício Interno 4.675/2025 - Via 1DOC - Escola do Legislativo
LAST-MODIFIED;VALUE=DATE-TIME:20250902T133734Z
LOCATION:Câmara Municipal de Cáceres - MT
URL:https://www.caceres.mt.leg.br/institucional/eventos/aspectos-legais-do
 -atendimento-ao-cliente-senac
END:VEVENT
BEGIN:VTIMEZONE
TZID:Brazil/West
X-LIC-LOCATION:Brazil/West
BEGIN:STANDARD
DTSTART;VALUE=DATE-TIME:19940219T230000
TZNAME:AMT
TZOFFSETFROM:-0300
TZOFFSETTO:-0400
END:STANDARD
END:VTIMEZONE
END:VCALENDAR
