BEGIN:VCALENDAR
VERSION:2.0
PRODID:-//Plone.org//NONSGML plone.app.event//EN
X-WR-TIMEZONE:Brazil/West
BEGIN:VEVENT
SUMMARY:27ª Sessão Ordinária 
DTSTART;TZID=Brazil/West;VALUE=DATE-TIME:20250819T080000
DTEND;TZID=Brazil/West;VALUE=DATE-TIME:20250819T090000
DTSTAMP;VALUE=DATE-TIME:20260419T130807Z
UID:63149f85a8c54be086318965f1b5f7c9@www.caceres.mt.leg.br
CREATED;VALUE=DATE-TIME:20250815T152641Z
DESCRIPTION:Portaria nº 221/2025 - Presidente Flávio Negação
LAST-MODIFIED;VALUE=DATE-TIME:20250815T152647Z
LOCATION:Câmara Municipal de Cáceres - MT
URL:https://www.caceres.mt.leg.br/institucional/eventos/27a-sessao-ordinar
 ia
END:VEVENT
BEGIN:VTIMEZONE
TZID:Brazil/West
X-LIC-LOCATION:Brazil/West
BEGIN:STANDARD
DTSTART;VALUE=DATE-TIME:19940219T230000
TZNAME:AMT
TZOFFSETFROM:-0300
TZOFFSETTO:-0400
END:STANDARD
END:VTIMEZONE
END:VCALENDAR
