BEGIN:VCALENDAR
VERSION:2.0
PRODID:-//Plone.org//NONSGML plone.app.event//EN
X-WR-TIMEZONE:Brazil/West
BEGIN:VEVENT
SUMMARY:“Mobilização para a Prevenção aos Incêndios do Pantanal –
  Estação Ecológica de Taiamã e Rio Paraguai – RESTAURA + TAIAMÃ”
DTSTART;TZID=Brazil/West;VALUE=DATE-TIME:20250415T190000
DTEND;TZID=Brazil/West;VALUE=DATE-TIME:20250415T200000
DTSTAMP;VALUE=DATE-TIME:20260421T025234Z
UID:d5f4242396c0492fade60dbf415024c6@www.caceres.mt.leg.br
CREATED;VALUE=DATE-TIME:20250402T174627Z
DESCRIPTION:Ofício Interno 1.765/2025  - Vereador Pastorello
LAST-MODIFIED;VALUE=DATE-TIME:20250402T174636Z
LOCATION:Câmara Municipal de Cáceres - MT
URL:https://www.caceres.mt.leg.br/institucional/eventos/201cmobilizacao-pa
 ra-a-prevencao-aos-incendios-do-pantanal-2013-estacao-ecologica-de-taiama-
 e-rio-paraguai-2013-restaura-taiama201d
END:VEVENT
BEGIN:VTIMEZONE
TZID:Brazil/West
X-LIC-LOCATION:Brazil/West
BEGIN:STANDARD
DTSTART;VALUE=DATE-TIME:19940219T230000
TZNAME:AMT
TZOFFSETFROM:-0300
TZOFFSETTO:-0400
END:STANDARD
END:VTIMEZONE
END:VCALENDAR
